Package: RBM Version: 1.39.0 Command: /home/biocbuild/R/R/bin/R CMD build --keep-empty-dirs --no-resave-data RBM StartedAt: 2025-01-29 01:31:32 -0000 (Wed, 29 Jan 2025) EndedAt: 2025-01-29 01:32:20 -0000 (Wed, 29 Jan 2025) EllapsedTime: 48.0 seconds RetCode: 0 Status: OK PackageFile: RBM_1.39.0.tar.gz PackageFileSize: 363.9 KiB