Package: RBM Version: 1.39.0 Command: /Library/Frameworks/R.framework/Resources/bin/R CMD check --install=check:RBM.install-out.txt --library=/Library/Frameworks/R.framework/Resources/library --no-vignettes --timings RBM_1.39.0.tar.gz StartedAt: 2025-02-05 20:58:05 -0500 (Wed, 05 Feb 2025) EndedAt: 2025-02-05 20:58:23 -0500 (Wed, 05 Feb 2025) EllapsedTime: 18.3 seconds RetCode: 0 Status: OK CheckDir: RBM.Rcheck Warnings: 0