Package: RAREsim Version: 1.11.0 Command: E:\biocbuild\bbs-3.21-bioc\R\bin\R.exe CMD INSTALL RAREsim StartedAt: 2025-02-17 15:20:14 -0500 (Mon, 17 Feb 2025) EndedAt: 2025-02-17 15:20:27 -0500 (Mon, 17 Feb 2025) EllapsedTime: 12.5 seconds RetCode: 0 Status: OK