Package: RAREsim Version: 1.11.0 Command: /home/biocbuild/bbs-3.21-bioc/R/bin/R CMD INSTALL RAREsim StartedAt: 2025-02-05 15:04:19 -0500 (Wed, 05 Feb 2025) EndedAt: 2025-02-05 15:04:33 -0500 (Wed, 05 Feb 2025) EllapsedTime: 14.3 seconds RetCode: 0 Status: OK