Package: RAREsim Version: 1.11.0 Command: /Library/Frameworks/R.framework/Resources/bin/R CMD INSTALL RAREsim StartedAt: 2025-02-05 15:03:04 -0500 (Wed, 05 Feb 2025) EndedAt: 2025-02-05 15:03:20 -0500 (Wed, 05 Feb 2025) EllapsedTime: 15.5 seconds RetCode: 0 Status: OK