Package: RAREsim Version: 1.11.0 Command: /home/biocbuild/R/R/bin/R CMD INSTALL RAREsim StartedAt: 2025-01-29 19:29:42 -0000 (Wed, 29 Jan 2025) EndedAt: 2025-01-29 19:29:50 -0000 (Wed, 29 Jan 2025) EllapsedTime: 8.0 seconds RetCode: 0 Status: OK