Package: RAREsim Version: 1.13.0 Command: /Library/Frameworks/R.framework/Resources/bin/R CMD check --install=check:RAREsim.install-out.txt --library=/Library/Frameworks/R.framework/Resources/library --no-vignettes --timings RAREsim_1.13.0.tar.gz StartedAt: 2025-04-27 20:52:46 -0400 (Sun, 27 Apr 2025) EndedAt: 2025-04-27 20:52:58 -0400 (Sun, 27 Apr 2025) EllapsedTime: 11.1 seconds RetCode: 0 Status: OK CheckDir: RAREsim.Rcheck Warnings: 0