Package: RAREsim Version: 1.13.0 Command: /Library/Frameworks/R.framework/Resources/bin/R CMD build --keep-empty-dirs --no-resave-data RAREsim StartedAt: 2025-04-27 17:17:55 -0400 (Sun, 27 Apr 2025) EndedAt: 2025-04-27 17:17:59 -0400 (Sun, 27 Apr 2025) EllapsedTime: 4.1 seconds RetCode: 0 Status: OK PackageFile: RAREsim_1.13.0.tar.gz PackageFileSize: 299.9 KiB