Package: RAREsim Version: 1.13.0 Command: rm -rf RAREsim.buildbin-libdir && mkdir RAREsim.buildbin-libdir && /Users/biocbuild/BBS/utils/build-universal.sh RAREsim_1.13.0.tar.gz /Library/Frameworks/R.framework/Resources/bin/R RAREsim.buildbin-libdir StartedAt: 2025-04-27 22:26:49 -0400 (Sun, 27 Apr 2025) EndedAt: 2025-04-27 22:26:51 -0400 (Sun, 27 Apr 2025) EllapsedTime: 2.0 seconds RetCode: 0 Status: OK PackageFile: RAREsim_1.13.0.tgz PackageFileSize: 318.2 KiB