Package: RAIDS Version: 1.7.2 Command: /home/biocbuild/bbs-3.22-bioc/R/bin/R CMD INSTALL RAIDS StartedAt: 2025-10-06 15:39:30 -0400 (Mon, 06 Oct 2025) EndedAt: 2025-10-06 15:40:27 -0400 (Mon, 06 Oct 2025) EllapsedTime: 56.8 seconds RetCode: 0 Status: OK