Package: R4RNA Version: 1.37.0 Command: /Library/Frameworks/R.framework/Resources/bin/R CMD check --install=check:R4RNA.install-out.txt --library=/Library/Frameworks/R.framework/Resources/library --no-vignettes --timings R4RNA_1.37.0.tar.gz StartedAt: 2025-05-27 22:40:30 -0400 (Tue, 27 May 2025) EndedAt: 2025-05-27 22:41:54 -0400 (Tue, 27 May 2025) EllapsedTime: 83.8 seconds RetCode: 0 Status: OK CheckDir: R4RNA.Rcheck Warnings: 0