Package: R453Plus1Toolbox Version: 1.57.0 Command: E:\biocbuild\bbs-3.21-bioc\R\bin\R.exe CMD INSTALL R453Plus1Toolbox StartedAt: 2025-02-03 17:06:56 -0500 (Mon, 03 Feb 2025) EndedAt: 2025-02-03 17:12:07 -0500 (Mon, 03 Feb 2025) EllapsedTime: 310.4 seconds RetCode: 0 Status: OK