Package: R453Plus1Toolbox Version: 1.57.0 Command: chmod a+r R453Plus1Toolbox -R && E:\biocbuild\bbs-3.21-bioc\R\bin\R.exe CMD build --keep-empty-dirs --no-resave-data R453Plus1Toolbox StartedAt: 2025-02-03 21:11:48 -0500 (Mon, 03 Feb 2025) EndedAt: 2025-02-03 21:15:25 -0500 (Mon, 03 Feb 2025) EllapsedTime: 217.4 seconds RetCode: 0 Status: OK PackageFile: R453Plus1Toolbox_1.57.0.tar.gz PackageFileSize: 838.4 KiB