Package: R453Plus1Toolbox Version: 1.57.0 Command: /home/biocbuild/bbs-3.21-bioc/R/bin/R CMD build --keep-empty-dirs --no-resave-data R453Plus1Toolbox StartedAt: 2025-02-03 18:56:20 -0500 (Mon, 03 Feb 2025) EndedAt: 2025-02-03 18:58:17 -0500 (Mon, 03 Feb 2025) EllapsedTime: 117.1 seconds RetCode: 0 Status: OK PackageFile: R453Plus1Toolbox_1.57.0.tar.gz PackageFileSize: 838.8 KiB