Package: R453Plus1Toolbox Version: 1.57.0 Command: /Library/Frameworks/R.framework/Resources/bin/R CMD check --install=check:R453Plus1Toolbox.install-out.txt --library=/Library/Frameworks/R.framework/Resources/library --no-vignettes --timings R453Plus1Toolbox_1.57.0.tar.gz StartedAt: 2025-02-03 22:40:25 -0500 (Mon, 03 Feb 2025) EndedAt: 2025-02-03 22:47:16 -0500 (Mon, 03 Feb 2025) EllapsedTime: 411.4 seconds RetCode: 0 Status: OK CheckDir: R453Plus1Toolbox.Rcheck Warnings: 0