Package: R453Plus1Toolbox Version: 1.57.0 Command: /Library/Frameworks/R.framework/Resources/bin/R CMD build --keep-empty-dirs --no-resave-data R453Plus1Toolbox StartedAt: 2025-02-03 18:01:30 -0500 (Mon, 03 Feb 2025) EndedAt: 2025-02-03 18:03:30 -0500 (Mon, 03 Feb 2025) EllapsedTime: 120.2 seconds RetCode: 0 Status: OK PackageFile: R453Plus1Toolbox_1.57.0.tar.gz PackageFileSize: 839 KiB