Package: R453Plus1Toolbox Version: 1.57.0 Command: rm -rf R453Plus1Toolbox.buildbin-libdir && mkdir R453Plus1Toolbox.buildbin-libdir && /Users/biocbuild/BBS/utils/build-universal.sh R453Plus1Toolbox_1.57.0.tar.gz /Library/Frameworks/R.framework/Resources/bin/R R453Plus1Toolbox.buildbin-libdir StartedAt: 2025-02-04 00:50:24 -0500 (Tue, 04 Feb 2025) EndedAt: 2025-02-04 00:52:04 -0500 (Tue, 04 Feb 2025) EllapsedTime: 100.6 seconds RetCode: 0 Status: OK PackageFile: R453Plus1Toolbox_1.57.0.tgz PackageFileSize: 2.239 MiB