Package: R453Plus1Toolbox Version: 1.57.0 Command: /home/biocbuild/R/R/bin/R CMD build --keep-empty-dirs --no-resave-data R453Plus1Toolbox StartedAt: 2025-01-29 01:28:18 -0000 (Wed, 29 Jan 2025) EndedAt: 2025-01-29 01:30:55 -0000 (Wed, 29 Jan 2025) EllapsedTime: 157.1 seconds RetCode: 0 Status: OK PackageFile: R453Plus1Toolbox_1.57.0.tar.gz PackageFileSize: 829.8 KiB