Package: R453Plus1Toolbox Version: 1.57.0 Command: /Library/Frameworks/R.framework/Resources/bin/R CMD INSTALL R453Plus1Toolbox StartedAt: 2025-02-03 15:49:13 -0500 (Mon, 03 Feb 2025) EndedAt: 2025-02-03 15:49:40 -0500 (Mon, 03 Feb 2025) EllapsedTime: 26.9 seconds RetCode: 0 Status: OK