Package: R3CPET Version: 1.43.0 Command: /home/biocbuild/bbs-3.23-bioc/R/bin/R CMD INSTALL R3CPET StartedAt: 2025-11-17 15:47:25 -0500 (Mon, 17 Nov 2025) EndedAt: 2025-11-17 15:48:35 -0500 (Mon, 17 Nov 2025) EllapsedTime: 70.3 seconds RetCode: 0 Status: OK