Package: QuasR Version: 1.49.3 Command: rm -rf QuasR.buildbin-libdir && mkdir QuasR.buildbin-libdir && F:\biocbuild\bbs-3.22-bioc\R\bin\R.exe CMD INSTALL --build --library=QuasR.buildbin-libdir QuasR_1.49.3.tar.gz StartedAt: 2025-08-15 11:02:05 -0400 (Fri, 15 Aug 2025) EndedAt: 2025-08-15 11:04:07 -0400 (Fri, 15 Aug 2025) EllapsedTime: 122.4 seconds RetCode: 0 Status: OK PackageFile: QuasR_1.49.3.zip PackageFileSize: 7.48 MiB