Package: QuasR Version: 1.49.1 Command: /Library/Frameworks/R.framework/Resources/bin/R CMD check --install=check:QuasR.install-out.txt --library=/Library/Frameworks/R.framework/Resources/library --no-vignettes --timings QuasR_1.49.1.tar.gz StartedAt: 2025-05-06 21:24:15 -0400 (Tue, 06 May 2025) EndedAt: 2025-05-06 21:28:47 -0400 (Tue, 06 May 2025) EllapsedTime: 272.0 seconds RetCode: 0 Status: WARNINGS CheckDir: QuasR.Rcheck Warnings: 1