Package: QuasR Version: 1.49.1 Command: rm -rf QuasR.buildbin-libdir && mkdir QuasR.buildbin-libdir && /Users/biocbuild/BBS/utils/build-universal.sh QuasR_1.49.1.tar.gz /Library/Frameworks/R.framework/Resources/bin/R QuasR.buildbin-libdir StartedAt: 2025-05-06 23:11:03 -0400 (Tue, 06 May 2025) EndedAt: 2025-05-06 23:11:34 -0400 (Tue, 06 May 2025) EllapsedTime: 31.8 seconds RetCode: 0 Status: OK PackageFile: QuasR_1.49.1.tgz PackageFileSize: 3.416 MiB