Package: QuartPAC Version: 1.39.0 Command: chmod a+r QuartPAC -R && E:\biocbuild\bbs-3.21-bioc\R\bin\R.exe CMD build --keep-empty-dirs --no-resave-data QuartPAC StartedAt: 2025-02-16 20:51:21 -0500 (Sun, 16 Feb 2025) EndedAt: 2025-02-16 20:52:22 -0500 (Sun, 16 Feb 2025) EllapsedTime: 60.6 seconds RetCode: 0 Status: OK PackageFile: QuartPAC_1.39.0.tar.gz PackageFileSize: 751.6 KiB