Package: QuartPAC Version: 1.39.0 Command: /Library/Frameworks/R.framework/Resources/bin/R CMD check --install=check:QuartPAC.install-out.txt --library=/Library/Frameworks/R.framework/Resources/library --no-vignettes --timings QuartPAC_1.39.0.tar.gz StartedAt: 2025-02-16 22:27:07 -0500 (Sun, 16 Feb 2025) EndedAt: 2025-02-16 22:29:15 -0500 (Sun, 16 Feb 2025) EllapsedTime: 127.3 seconds RetCode: 1 Status: ERROR CheckDir: QuartPAC.Rcheck Warnings: NA