Package: Qtlizer Version: 1.23.0 Command: chmod a+r Qtlizer -R && F:\biocbuild\bbs-3.22-bioc\R\bin\R.exe CMD build --keep-empty-dirs --no-resave-data Qtlizer StartedAt: 2025-08-14 22:32:58 -0400 (Thu, 14 Aug 2025) EndedAt: 2025-08-14 22:33:11 -0400 (Thu, 14 Aug 2025) EllapsedTime: 12.9 seconds RetCode: 0 Status: OK PackageFile: Qtlizer_1.23.0.tar.gz PackageFileSize: 223.3 KiB