Package: Qtlizer Version: 1.21.0 Command: chmod a+r Qtlizer -R && E:\biocbuild\bbs-3.21-bioc\R\bin\R.exe CMD build --keep-empty-dirs --no-resave-data Qtlizer StartedAt: 2025-02-16 20:51:01 -0500 (Sun, 16 Feb 2025) EndedAt: 2025-02-16 20:51:13 -0500 (Sun, 16 Feb 2025) EllapsedTime: 12.6 seconds RetCode: 0 Status: OK PackageFile: Qtlizer_1.21.0.tar.gz PackageFileSize: 223.2 KiB