Package: Qtlizer Version: 1.23.0 Command: rm -rf Qtlizer.buildbin-libdir && mkdir Qtlizer.buildbin-libdir && /Users/biocbuild/BBS/utils/build-universal.sh Qtlizer_1.23.0.tar.gz /Library/Frameworks/R.framework/Resources/bin/R Qtlizer.buildbin-libdir StartedAt: 2025-10-11 02:47:03 -0400 (Sat, 11 Oct 2025) EndedAt: 2025-10-11 02:47:08 -0400 (Sat, 11 Oct 2025) EllapsedTime: 5.8 seconds RetCode: 0 Status: OK PackageFile: Qtlizer_1.23.0.tgz PackageFileSize: 235.8 KiB