Package: Qtlizer Version: 1.23.0 Command: /Library/Frameworks/R.framework/Resources/bin/R CMD check --install=check:Qtlizer.install-out.txt --library=/Library/Frameworks/R.framework/Resources/library --no-vignettes --timings Qtlizer_1.23.0.tar.gz StartedAt: 2025-05-08 21:22:38 -0400 (Thu, 08 May 2025) EndedAt: 2025-05-08 21:22:56 -0400 (Thu, 08 May 2025) EllapsedTime: 17.2 seconds RetCode: 0 Status: OK CheckDir: Qtlizer.Rcheck Warnings: 0