Package: Qtlizer Version: 1.23.0 Maintainer: Matthias Munz MaintainerEmail: matthias.munz at gmx.de git_url: https://git.bioconductor.org/packages/Qtlizer git_branch: devel git_last_commit: 774cf7b git_last_commit_date: 2025-04-15 11:49:35 -0400 (Tue, 15 Apr 2025)