Package: QTLExperiment Version: 2.1.1 Command: chmod a+r QTLExperiment -R && F:\biocbuild\bbs-3.22-bioc\R\bin\R.exe CMD build --keep-empty-dirs --no-resave-data QTLExperiment StartedAt: 2025-08-14 22:32:43 -0400 (Thu, 14 Aug 2025) EndedAt: 2025-08-14 22:33:39 -0400 (Thu, 14 Aug 2025) EllapsedTime: 56.0 seconds RetCode: 0 Status: OK PackageFile: QTLExperiment_2.1.1.tar.gz PackageFileSize: 613 KiB