Package: QTLExperiment Version: 2.1.2 Command: /home/biocbuild/bbs-3.22-bioc/R/bin/R CMD INSTALL QTLExperiment StartedAt: 2025-10-13 15:26:51 -0400 (Mon, 13 Oct 2025) EndedAt: 2025-10-13 15:27:18 -0400 (Mon, 13 Oct 2025) EllapsedTime: 26.8 seconds RetCode: 0 Status: OK