Package: QTLExperiment Version: 2.1.2 Command: /home/biocbuild/bbs-3.22-bioc/R/bin/R CMD build --keep-empty-dirs --no-resave-data --md5 QTLExperiment StartedAt: 2025-10-13 19:31:27 -0400 (Mon, 13 Oct 2025) EndedAt: 2025-10-13 19:32:05 -0400 (Mon, 13 Oct 2025) EllapsedTime: 38.0 seconds RetCode: 0 Status: OK PackageFile: QTLExperiment_2.1.2.tar.gz PackageFileSize: 616.3 KiB