Package: QTLExperiment Version: 1.5.0 Command: /home/biocbuild/R/R/bin/R CMD check --install=check:QTLExperiment.install-out.txt --library=/home/biocbuild/R/R/site-library --no-vignettes --timings QTLExperiment_1.5.0.tar.gz StartedAt: 2025-01-28 14:12:51 -0000 (Tue, 28 Jan 2025) EndedAt: 2025-01-28 14:17:05 -0000 (Tue, 28 Jan 2025) EllapsedTime: 253.2 seconds RetCode: 0 Status: OK CheckDir: QTLExperiment.Rcheck Warnings: 0