Package: QTLExperiment Version: 1.5.0 Command: /home/biocbuild/R/R/bin/R CMD build --keep-empty-dirs --no-resave-data QTLExperiment StartedAt: 2025-01-29 01:27:02 -0000 (Wed, 29 Jan 2025) EndedAt: 2025-01-29 01:27:58 -0000 (Wed, 29 Jan 2025) EllapsedTime: 56.0 seconds RetCode: 0 Status: OK PackageFile: QTLExperiment_1.5.0.tar.gz PackageFileSize: 680.3 KiB