Package: QTLExperiment Version: 2.1.2 Command: rm -rf QTLExperiment.buildbin-libdir && mkdir QTLExperiment.buildbin-libdir && /Users/biocbuild/BBS/utils/build-universal.sh QTLExperiment_2.1.2.tar.gz /Library/Frameworks/R.framework/Resources/bin/R QTLExperiment.buildbin-libdir StartedAt: 2025-10-06 22:56:02 -0400 (Mon, 06 Oct 2025) EndedAt: 2025-10-06 22:56:14 -0400 (Mon, 06 Oct 2025) EllapsedTime: 12.3 seconds RetCode: 0 Status: OK PackageFile: QTLExperiment_2.1.2.tgz PackageFileSize: 1.141 MiB