Package: QRscore Version: 1.1.1 Command: /home/biocbuild/bbs-3.22-bioc/R/bin/R CMD INSTALL QRscore StartedAt: 2025-10-19 15:10:03 -0400 (Sun, 19 Oct 2025) EndedAt: 2025-10-19 15:10:11 -0400 (Sun, 19 Oct 2025) EllapsedTime: 8.3 seconds RetCode: 0 Status: OK