Package: QRscore Version: 1.1.1 Command: /home/biocbuild/bbs-3.22-bioc/R/bin/R CMD build --keep-empty-dirs --no-resave-data --md5 QRscore StartedAt: 2025-10-19 19:27:00 -0400 (Sun, 19 Oct 2025) EndedAt: 2025-10-19 19:27:02 -0400 (Sun, 19 Oct 2025) EllapsedTime: 2.0 seconds RetCode: 0 Status: OK PackageFile: QRscore_1.1.1.tar.gz PackageFileSize: 3.109 MiB