Package: QFeatures Version: 1.19.2 Maintainer: Laurent Gatto MaintainerEmail: laurent.gatto at uclouvain.be git_url: https://git.bioconductor.org/packages/QFeatures git_branch: devel git_last_commit: cc6781d git_last_commit_date: 2025-05-26 12:56:00 -0400 (Mon, 26 May 2025)