Package: PureCN Version: 2.15.4 Command: rm -rf PureCN.buildbin-libdir && mkdir PureCN.buildbin-libdir && F:\biocbuild\bbs-3.22-bioc\R\bin\R.exe CMD INSTALL --build --library=PureCN.buildbin-libdir PureCN_2.15.4.tar.gz StartedAt: 2025-08-15 11:00:48 -0400 (Fri, 15 Aug 2025) EndedAt: 2025-08-15 11:02:12 -0400 (Fri, 15 Aug 2025) EllapsedTime: 83.7 seconds RetCode: 0 Status: OK PackageFile: PureCN_2.15.4.zip PackageFileSize: 6.187 MiB