Package: PureCN Version: 2.15.4 Command: /home/biocbuild/bbs-3.22-bioc/R/bin/R CMD INSTALL PureCN StartedAt: 2025-10-01 15:54:24 -0400 (Wed, 01 Oct 2025) EndedAt: 2025-10-01 15:55:37 -0400 (Wed, 01 Oct 2025) EllapsedTime: 72.8 seconds RetCode: 0 Status: OK