Package: PureCN Version: 2.15.4 Command: /home/biocbuild/bbs-3.22-bioc/R/bin/R CMD build --keep-empty-dirs --no-resave-data --md5 PureCN StartedAt: 2025-10-01 19:47:18 -0400 (Wed, 01 Oct 2025) EndedAt: 2025-10-01 19:51:25 -0400 (Wed, 01 Oct 2025) EllapsedTime: 246.3 seconds RetCode: 0 Status: OK PackageFile: PureCN_2.15.4.tar.gz PackageFileSize: 5.73 MiB