Package: PureCN Version: 2.15.3 Command: /Library/Frameworks/R.framework/Resources/bin/R CMD build --keep-empty-dirs --no-resave-data PureCN StartedAt: 2025-05-08 17:22:04 -0400 (Thu, 08 May 2025) EndedAt: 2025-05-08 17:23:48 -0400 (Thu, 08 May 2025) EllapsedTime: 104.3 seconds RetCode: 0 Status: OK PackageFile: PureCN_2.15.3.tar.gz PackageFileSize: 5.723 MiB