Package: ProteoMM Version: 1.27.0 Command: /Library/Frameworks/R.framework/Resources/bin/R CMD INSTALL ProteoMM StartedAt: 2025-05-06 15:21:45 -0400 (Tue, 06 May 2025) EndedAt: 2025-05-06 15:21:53 -0400 (Tue, 06 May 2025) EllapsedTime: 8.0 seconds RetCode: 0 Status: OK