Package: ProteoMM Version: 1.27.0 Command: /Library/Frameworks/R.framework/Resources/bin/R CMD build --keep-empty-dirs --no-resave-data ProteoMM StartedAt: 2025-05-07 17:59:58 -0400 (Wed, 07 May 2025) EndedAt: 2025-05-07 18:00:40 -0400 (Wed, 07 May 2025) EllapsedTime: 41.2 seconds RetCode: 0 Status: OK PackageFile: ProteoMM_1.27.0.tar.gz PackageFileSize: 517.9 KiB