Package: ProteoMM Version: 1.27.0 Command: rm -rf ProteoMM.buildbin-libdir && mkdir ProteoMM.buildbin-libdir && /Users/biocbuild/BBS/utils/build-universal.sh ProteoMM_1.27.0.tar.gz /Library/Frameworks/R.framework/Resources/bin/R ProteoMM.buildbin-libdir StartedAt: 2025-05-09 22:52:16 -0400 (Fri, 09 May 2025) EndedAt: 2025-05-09 22:52:19 -0400 (Fri, 09 May 2025) EllapsedTime: 3.1 seconds RetCode: 0 Status: OK PackageFile: ProteoMM_1.27.0.tgz PackageFileSize: 630.6 KiB