Package: ProteoDisco Version: 1.15.1 Command: /home/biocbuild/bbs-3.22-bioc/R/bin/R CMD INSTALL ProteoDisco StartedAt: 2025-10-17 15:44:55 -0400 (Fri, 17 Oct 2025) EndedAt: 2025-10-17 15:45:47 -0400 (Fri, 17 Oct 2025) EllapsedTime: 51.5 seconds RetCode: 0 Status: OK