Package: ProteoDisco Version: 1.13.0 Command: /home/biocbuild/bbs-3.21-bioc/R/bin/R CMD build --keep-empty-dirs --no-resave-data ProteoDisco StartedAt: 2025-02-03 18:53:00 -0500 (Mon, 03 Feb 2025) EndedAt: 2025-02-03 18:55:28 -0500 (Mon, 03 Feb 2025) EllapsedTime: 148.2 seconds RetCode: 0 Status: OK PackageFile: ProteoDisco_1.13.0.tar.gz PackageFileSize: 511.1 KiB