Package: Prostar Version: 1.41.0 Command: rm -rf Prostar.buildbin-libdir && mkdir Prostar.buildbin-libdir && F:\biocbuild\bbs-3.22-bioc\R\bin\R.exe CMD INSTALL --build --library=Prostar.buildbin-libdir Prostar_1.41.0.tar.gz StartedAt: 2025-08-15 11:00:26 -0400 (Fri, 15 Aug 2025) EndedAt: 2025-08-15 11:01:15 -0400 (Fri, 15 Aug 2025) EllapsedTime: 49.1 seconds RetCode: 0 Status: OK PackageFile: Prostar_1.41.0.zip PackageFileSize: 1.616 MiB