Package: PrInCE Version: 1.23.0 Command: /home/biocbuild/R/R/bin/R CMD build --keep-empty-dirs --no-resave-data PrInCE StartedAt: 2025-01-29 01:21:30 -0000 (Wed, 29 Jan 2025) EndedAt: 2025-01-29 01:25:11 -0000 (Wed, 29 Jan 2025) EllapsedTime: 221.2 seconds RetCode: 0 Status: OK PackageFile: PrInCE_1.23.0.tar.gz PackageFileSize: 1.879 MiB